Workbook

Sheet Macro-commandes
A1: =#REF! -> #REF! | C1: Administration communale de:
A3: Gestion informatique du document. | B3: Commandes :
A5: Cliquez sur la commande>>>
C7: Enregistré

Sheet Coordonnées
B1: Commune de | C1: BRUGELETTE | D1: Code INS | E1: 51012
C2: Budget de l'exercice: | E2: 2026
A3: Modèle officiel généré par l'application eComptes © SPW.SPW Intérieur et Action Sociale.
A5: Commune de : | B5: BRUGELETTE | C5: Rapport calculé sur les données suivantes:
A6: Adresse de l'administration: | B6: Grand Place 2A | C6: Dernier compte arrêté, exercice: | E6: 2024
B7: 7940 BRUGELETTE | C7: Budget initial de l'exercice: | E7: 2026
A9: Adresse du site internet: | B9: www.brugelette.be
A12: Directeur Général: | B12: Karolina KOWALSKA
A13: Tél: | B13: 068 45 73 09
A14: Fax:
A15: Email: | B15: direction-generale@brugelette.be
A17: Directeur Financier: | B17: Sandra LOR
A18: Tél: | B18: 068 45 73 34
A19: Fax:
A20: Email: | B20: receveur@brugelette.be

Sheet Introduction

Sheet Tableau de synthèse du SO
D1: Tableau de synthèse du service ordinaire, (classification économique)
D3: Exercice budgétaire: | F3: 2026 | O3: Les principaux chiffres en graphiques …
D4: Année du dernier compte arrêté: | F4: 2024
A6: DEPENSES ORDINAIRES
H7: Budget initial N-1 | I7: Budget intial | J7: Ecart BI
B8: Résultats des comptes d'exercice
B9: =C9-1 -> 2019 | C9: =D9-1 -> 2020 | D9: =E9-1 -> 2021 | E9: =F9-1 -> 2022 | F9: =G9-1 -> 2023 | G9: =F4 -> 2024 | H9: =F3-1 -> 2025 | I9: =F3 -> 2026
A10: Personnel | B10: 1854276.2 | C10: 1941878.8 | D10: 1876812.8 | E10: 2020398.8 | F10: 2324668.5 | G10: 2411549.1 | H10: 2793625.7 | I10: 3017584.2 | J10: =I10-H10 -> 223958.49
A11: Fonctionnement | B11: 668680.98 | C11: 635192.51 | D11: 690610.9 | E11: 766412.97 | F11: 806258.57 | G11: 898907.29 | H11: 1182286.2 | I11: 1175128.9 | J11: =I11-H11 -> -7157.3
A12: Transferts | B12: 1413321.3 | C12: 1510822.5 | D12: 1409585.1 | E12: 1487538.4 | F12: 1690468.2 | G12: 1767639.3 | H12: 1752849 | I12: 1807507.6 | J12: =I12-H12 -> 54658.53
A13: Dette | B13: 370183.42 | C13: 335958.83 | D13: 406859.12 | E13: 406551.81 | F13: 362504.16 | G13: 469034.42 | H13: 688949.16 | I13: 640103.89 | J13: =I13-H13 -> -48845.27
A14: Prélèvements | B14: 200000 | C14: 0 | D14: 0 | E14: 237827.38 | F14: 427089.29 | G14: 3345 | H14: 0 | I14: 0 | J14: =I14-H14 -> 0
A15: Total (exercice propre) | B15: =SUM(B10:B14) -> 4506461.9 | C15: =SUM(C10:C14) -> 4423852.6 | D15: =SUM(D10:D14) -> 4383867.9 | E15: =SUM(E10:E14) -> 4918729.4 | F15: =SUM(F10:F14) -> 5610988.8 | G15: =SUM(G10:G14) -> 5550475.1 | H15: =SUM(H10:H14) -> 6417710.1 | I15: =SUM(I10:I14) -> 6640324.6 | J15: =I15-H15 -> 222614.45
A16: Exercices antérieurs | B16: 217828.45 | C16: 292979.95 | D16: 261548.5 | E16: 290376.15 | F16: 542422.03 | G16: 564330.57 | H16: 448646.37 | I16: 186000 | J16: =I16-H16 -> -262646.37
A17: Prélèvements | B17: 162026.29 | C17: 221025.33 | D17: 0 | E17: 0 | F17: 730000 | G17: 550000 | H17: 0 | I17: 200000 | J17: =I17-H17 -> 200000
A18: Total général | B18: =SUM(B15:B17) -> 4886316.6 | C18: =SUM(C15:C17) -> 4937857.9 | D18: =SUM(D15:D17) -> 4645416.4 | E18: =SUM(E15:E17) -> 5209105.5 | F18: =SUM(F15:F17) -> 6883410.8 | G18: =SUM(G15:G17) -> 6664805.7 | H18: =SUM(H15:H17) -> 6866356.5 | I18: =SUM(I15:I17) -> 7026324.6 | J18: =I18-H18 -> 159968.08
A21: RECETTES ORDINAIRES
H22: Budget initial N-1 | I22: Budget intial | J22: Ecart BI
B23: Résultats des comptes d'exercice
B24: =B9 -> 2019 | C24: =C9 -> 2020 | D24: =D9 -> 2021 | E24: =E9 -> 2022 | F24: =F9 -> 2023 | G24: =G9 -> 2024 | H24: =H9 -> 2025 | I24: =I9 -> 2026
A25: Prestation | B25: 181979.43 | C25: 137380.47 | D25: 154505 | E25: 147437.41 | F25: 281594.85 | G25: 383512.46 | H25: 209397.12 | I25: 244972.89 | J25: =I25-H25 -> 35575.77
A26: Transferts | B26: 4595117.2 | C26: 4480385 | D26: 4365630.3 | E26: 5021306.3 | F26: 6275293.8 | G26: 5804783.2 | H26: 6149990.6 | I26: 6248917.7 | J26: =I26-H26 -> 98927.1
A27: Dette | B27: 83305.24 | C27: 112497.38 | D27: 121639.22 | E27: 183835.87 | F27: 167887.71 | G27: 127676.45 | H27: 74566.72 | I27: 144566.72 | J27: =I27-H27 -> 70000
A28: Prélèvements | B28: 0 | C28: 0 | D28: 0 | E28: 0 | F28: 0 | G28: 0 | H28: 0 | I28: 10000 | J28: =I28-H28 -> 10000
A29: Total (exercice propre) | B29: =SUM(B25:B28) -> 4860401.8 | C29: =SUM(C25:C28) -> 4730262.9 | D29: =SUM(D25:D28) -> 4641774.5 | E29: =SUM(E25:E28) -> 5352579.6 | F29: =SUM(F25:F28) -> 6724776.3 | G29: =SUM(G25:G28) -> 6315972.1 | H29: =SUM(H25:H28) -> 6433954.5 | I29: =SUM(I25:I28) -> 6648457.3 | J29: =I29-H29 -> 214502.87
A30: Exercices antérieurs | B30: 2500899.3 | C30: 2623183 | D30: 2606521.3 | E30: 3076195.5 | F30: 3535950.6 | G30: 3753311 | H30: 2343163.8 | I30: 2909882.5 | J30: =I30-H30 -> 566718.77
A31: Prélèvements | B31: 0 | C31: 0 | D31: 0 | E31: 0 | F31: 0 | G31: 0 | H31: 0 | I31: 0 | J31: =I31-H31 -> 0
A32: Total général | B32: =SUM(B29:B31) -> 7361301.1 | C32: =SUM(C29:C31) -> 7353445.9 | D32: =SUM(D29:D31) -> 7248295.8 | E32: =SUM(E29:E31) -> 8428775.1 | F32: =SUM(F29:F31) -> 10260727 | G32: =SUM(G29:G31) -> 10069283 | H32: =SUM(H29:H31) -> 8777118.2 | I32: =SUM(I29:I31) -> 9558339.9 | J32: =I32-H32 -> 781221.64
A36: Evolution des résultats | B36: =B9 -> 2019 | C36: =C9 -> 2020 | D36: =D9 -> 2021 | E36: =E9 -> 2022 | F36: =F9 -> 2023 | G36: =G9 -> 2024 | H36: =H9 -> 2025 | I36: =I9 -> 2026 | J36: Ecart
A37: Exercice propre | B37: =B29-B15 -> 353939.94 | C37: =C29-C15 -> 306410.26 | D37: =D29-D15 -> 257906.6 | E37: =E29-E15 -> 433850.23 | F37: =F29-F15 -> 1113787.6 | G37: =G29-G15 -> 765496.95 | H37: =H29-H15 -> 16244.35 | I37: =I29-I15 -> 8132.77 | J37: =I37-H37 -> -8111.58
A38: Global | B38: =B32-B18 -> 2474984.5 | C38: =C32-C18 -> 2415588 | D38: =D32-D18 -> 2602879.4 | E38: =E32-E18 -> 3219669.6 | F38: =F32-F18 -> 3377316.1 | G38: =G32-G18 -> 3404477.4 | H38: =H32-H18 -> 1910761.8 | I38: =I32-I18 -> 2532015.3 | J38: =I38-H38 -> 621253.56
B41: Calcul des écarts
A42: Dépenses ordinaires
B43: Budget initial / Budget initial N-1 | C43: Dern.MB / Budget initial | D43: Budget initial / dernier compte | E43: Dern.MB / dernier compte
A44: Personnel(*) | B44: =I10-H10 -> 223958.49 | C44: =IF($J$4=0,0,J10-I10) -> 0 | D44: =I10-G10 -> 606035.04 | E44: =IF($J$4=0,0,J10-G10) -> 0
A45: Fonctionnement | B45: =I11-H11 -> -7157.3 | C45: =IF($J$4=0,0,J11-I11) -> 0 | D45: =I11-G11 -> 276221.65 | E45: =IF($J$4=0,0,J11-G11) -> 0
A46: Transferts | B46: =I12-H12 -> 54658.53 | C46: =IF($J$4=0,0,J12-I12) -> 0 | D46: =I12-G12 -> 39868.27 | E46: =IF($J$4=0,0,J12-G12) -> 0
A47: Dette | B47: =I13-H13 -> -48845.27 | C47: =IF($J$4=0,0,J13-I13) -> 0 | D47: =I13-G13 -> 171069.47 | E47: =IF($J$4=0,0,J13-G13) -> 0
A48: Prélèvements | B48: =I14-H14 -> 0 | C48: =IF($J$4=0,0,J14-I14) -> 0 | D48: =I14-G14 -> -3345 | E48: =IF($J$4=0,0,J14-G14) -> 0
A49: Total (exercice propre) | B49: =I15-H15 -> 222614.45 | C49: =IF($J$4=0,0,J15-I15) -> 0 | D49: =I15-G15 -> 1089849.4 | E49: =IF($J$4=0,0,J15-G15) -> 0
...

Sheet Tableau fonctionnel
B1: Tableau fonctionnel - Ordinaire. | C1: =F1-1 -> 2025 | F1: =Coordonnées!E2 -> 2026
A2: Code | B2: Chapitres fonctionnels | C2: Budget recette (*) | D2: Budget Dépense (*) | E2: Solde Budgétaire | F2: Budget recette (*) | G2: Budget Dépense (*) | H2: Solde Budgétaire
A3: 000 | B3: Divers | C3: 0 | D3: 0 | E3: 0 | F3: 0 | G3: 0 | H3: 0
A4: 009 | B4: Recettes & dépenses générales | C4: 2842482.1 | D4: 17775.36 | E4: 2824706.8 | F4: 3458757.3 | G4: 38116.74 | H4: 3420640.6
A5: 019 | B5: Dette générale | C5: 0 | D5: 0 | E5: 0 | F5: 0 | G5: 0 | H5: 0
A6: 029 | B6: Fonds | C6: 1599714 | D6: 0 | E6: 1599714 | F6: 1668029.8 | G6: 0 | H6: 1668029.8
A7: 049 | B7: Impôts et Redevances | C7: 3398912.6 | D7: 87879.17 | E7: 3311033.4 | F7: 3376630.5 | G7: 5885.44 | H7: 3370745.1
A8: 059 | B8: Assurances | C8: 1286 | D8: 67850 | E8: -66564 | F8: 1286 | G8: 71500 | H8: -70214
A9: 123 | B9: Administration générale | C9: 42479.47 | D9: 2102365.9 | E9: -2059886.4 | F9: 60303 | G9: 2324254.7 | H9: -2263951.7
A10: 129 | B10: Patrimoine privé | C10: 3545.86 | D10: 107906.43 | E10: -104360.57 | F10: 3545.86 | G10: 75494.51 | H10: -71948.65
A11: 139 | B11: Services généraux | C11: 7001 | D11: 324056.31 | E11: -317055.31 | F11: 5001 | G11: 154347.46 | H11: -149346.46
A12: 149 | B12: Calamités | C12: 0 | D12: 0 | E12: 0 | F12: 10000 | G12: 10000 | H12: 0
A13: 159 | B13: Relations avec l'étranger | C13: 0 | D13: 0 | E13: 0 | F13: 0 | G13: 0 | H13: 0
A14: 169 | B14: Aide aux pays en voie de développement | C14: 0 | D14: 0 | E14: 0 | F14: 0 | G14: 0 | H14: 0
... A22: 749 | B22: Enseignement supérieur | C22: 0 | D22: 0 | E22: 0 | F22: 0 | G22: 0 | H22: 0
A23: 759 | B23: Enseignement pour handicapés | C23: 0 | D23: 0 | E23: 0 | F23: 0 | G23: 0 | H23: 0
A24: 767 | B24: Bibliothèques publiques | C24: 0 | D24: 8300 | E24: -8300 | F24: 0 | G24: 7700 | H24: -7700
A25: 789 | B25: Education Popul. et Arts | C25: 434765.82 | D25: 339436.9 | E25: 95328.92 | F25: 466519.52 | G25: 421320.39 | H25: 45199.13
A26: 799 | B26: Cultes | C26: 0 | D26: 131604.67 | E26: -131604.67 | F26: 0 | G26: 129318.74 | H26: -129318.74
A27: 839 | B27: Sécurité et Assist. sociale | C27: 60875 | D27: 848978.18 | E27: -788103.18 | F27: 97480.65 | G27: 887876.68 | H27: -790396.03
A28: 849 | B28: Aide sociale et familiale | C28: 28445.71 | D28: 45693.86 | E28: -17248.15 | F28: 28445.71 | G28: 57982.54 | H28: -29536.83
A29: 859 | B29: Emploi | C29: 0 | D29: 0 | E29: 0 | F29: 0 | G29: 0 | H29: 0
A30: 872 | B30: Institutions de soins | C30: 0 | D30: 0 | E30: 0 | F30: 0 | G30: 0 | H30: 0
A31: 874 | B31: Alimentation - Eau | C31: 0 | D31: 0 | E31: 0 | F31: 0 | G31: 0 | H31: 0
A32: 876 | B32: Désinfect.-Nett.-Immond. | C32: 500 | D32: 351772.57 | E32: -351272.57 | F32: 500 | G32: 341772.57 | H32: -341272.57
A33: 877 | B33: Eaux usées | C33: 0 | D33: 0 | E33: 0 | F33: 0 | G33: 0 | H33: 0
A34: 879 | B34: Cimetières-Protec.environ. | C34: 10000 | D34: 51629.16 | E34: -41629.16 | F34: 10000 | G34: 49129.16 | H34: -39129.16
A35: 939 | B35: Logement - Urbanisme | C35: 0 | D35: 163093.87 | E35: -163093.87 | F35: 0 | G35: 124182.14 | H35: -124182.14
A38: (*) Prévisions du budget Initial

Sheet Commentaires SO

Sheet Tableau de synthèse du SE
D1: Tableau de synthèse du service extraordinaire (classification économique)
D3: Exercice budgétaire: | F3: =Coordonnées!E7 -> 2026
D4: Année du dernier compte arrêté: | F4: =Coordonnées!E6 -> 2024
A6: DEPENSES EXTRAORDINAIRES
H7: Budget initial N-1 | I7: Budget intial | J7: Ecart
B8: Résultats des comptes d'exercice
B9: =C9-1 -> 2019 | C9: =D9-1 -> 2020 | D9: =E9-1 -> 2021 | E9: =F9-1 -> 2022 | F9: =G9-1 -> 2023 | G9: =F4 -> 2024 | H9: =F3-1 -> 2025 | I9: =F3 -> 2026
A10: Transferts | B10: 0 | C10: 0 | D10: 0 | E10: 7894.18 | F10: 0 | G10: 46671.5 | H10: 0 | I10: 0 | J10: =I10-H10 -> 0
A11: Investissements | B11: 827464.73 | C11: 497999.22 | D11: 2692953.1 | E11: 651849.43 | F11: 568835.28 | G11: 2251292.3 | H11: 796250 | I11: 2468443 | J11: =I11-H11 -> 1672193
A12: Dette | B12: 6048.39 | C12: 14210.21 | D12: 12859.22 | E12: 12859.22 | F12: 388509.07 | G12: 13271.69 | H12: 44180.13 | I12: 45081.14 | J12: =I12-H12 -> 901.01
A13: Prélèvements | B13: 0 | C13: 0 | D13: 0 | E13: 0 | F13: 0 | G13: 0 | H13: 0 | I13: 0 | J13: =I13-H13 -> 0
J14: =I14-H14 -> 0
A15: Total (exercice propre) | B15: =SUM(B10:B14) -> 833513.12 | C15: =SUM(C10:C14) -> 512209.43 | D15: =SUM(D10:D14) -> 2705812.4 | E15: =SUM(E10:E14) -> 672602.83 | F15: =SUM(F10:F14) -> 957344.35 | G15: =SUM(G10:G14) -> 2311235.5 | H15: =SUM(H10:H14) -> 840430.13 | I15: =SUM(I10:I14) -> 2513524.1 | J15: =I15-H15 -> 1673094
A16: Exercices antérieurs | B16: 1962296.8 | C16: 1992329.3 | D16: 992172.94 | E16: 3321917.9 | F16: 2713853.1 | G16: 2736935.8 | H16: 34000 | I16: 25000 | J16: =I16-H16 -> -9000
A17: Prélèvements | B17: 30000 | C17: 377639.02 | D17: 0 | E17: 479978.07 | F17: 0 | G17: 411202.29 | H17: 115000 | I17: 815558.42 | J17: =I17-H17 -> 700558.42
A18: Total général | B18: =SUM(B15:B17) -> 2825809.9 | C18: =SUM(C15:C17) -> 2882177.8 | D18: =SUM(D15:D17) -> 3697985.3 | E18: =SUM(E15:E17) -> 4474498.8 | F18: =SUM(F15:F17) -> 3671197.4 | G18: =SUM(G15:G17) -> 5459373.6 | H18: =SUM(H15:H17) -> 989430.13 | I18: =SUM(I15:I17) -> 3354082.6 | J18: =I18-H18 -> 2364652.4
J19: 0
A21: RECETTES EXTRAORDINAIRES
H22: Budget initial N-1 | I22: Budget intial | J22: Ecart
B23: Résultats des comptes d'exercice
B24: =B9 -> 2019 | C24: =C9 -> 2020 | D24: =D9 -> 2021 | E24: =E9 -> 2022 | F24: =F9 -> 2023 | G24: =G9 -> 2024 | H24: =H9 -> 2025 | I24: =I9 -> 2026
A25: Transferts | B25: 166489.32 | C25: 294138.57 | D25: 1090518.1 | E25: 256722.48 | F25: 691630.24 | G25: 830836.76 | H25: 50000 | I25: 1475913.5 | J25: =I25-H25 -> 1425913.5
A26: Investissements | B26: 3000 | C26: 15709.06 | D26: 5209.66 | E26: 0 | F26: 0 | G26: 9120.89 | H26: 115000 | I26: 110000 | J26: =I26-H26 -> -5000
A27: Dette | B27: 749994.79 | C27: 149083.79 | D27: 1175112.5 | E27: 404962.12 | F27: 310169.66 | G27: 3077860.3 | H27: 455000 | I27: 379000 | J27: =I27-H27 -> -76000
A28: Prélèvements | B28: 0 | C28: 0 | D28: 0 | E28: 0 | F28: 0 | G28: 0 | H28: 0 | I28: 0 | J28: =I28-H28 -> 0
A29: Total (exercice propre) | B29: =SUM(B25:B28) -> 919484.11 | C29: =SUM(C25:C28) -> 458931.42 | D29: =SUM(D25:D28) -> 2270840.2 | E29: =SUM(E25:E28) -> 661684.6 | F29: =SUM(F25:F28) -> 1001799.9 | G29: =SUM(G25:G28) -> 3917817.9 | H29: =SUM(H25:H28) -> 620000 | I29: =SUM(I25:I28) -> 1964913.5 | J29: =I29-H29 -> 1344913.5
A30: Exercices antérieurs | B30: 2023025.7 | C30: 2264842.1 | D30: 1135671.1 | E30: 2675042.5 | F30: 2303887 | G30: 1819900.8 | H30: 347782.41 | I30: 636091.74 | J30: =I30-H30 -> 288309.33
A31: Prélèvements | B31: 438392.73 | C31: 266730.63 | D31: 12859.22 | E31: 947004.42 | F31: 286074.44 | G31: 696959.6 | H31: 369430.13 | I31: 1030524.1 | J31: =I31-H31 -> 661094.01
A32: Total général | B32: =SUM(B29:B31) -> 3380902.5 | C32: =SUM(C29:C31) -> 2990504.1 | D32: =SUM(D29:D31) -> 3419370.6 | E32: =SUM(E29:E31) -> 4283731.5 | F32: =SUM(F29:F31) -> 3591761.3 | G32: =SUM(G29:G31) -> 6434678.3 | H32: =SUM(H29:H31) -> 1337212.5 | I32: =SUM(I29:I31) -> 3631529.4 | J32: =I32-H32 -> 2294316.8
A36: Evolution des résultats | B36: =B9 -> 2019 | C36: =C9 -> 2020 | D36: =D9 -> 2021 | E36: =E9 -> 2022 | F36: =F9 -> 2023 | G36: =G9 -> 2024 | H36: =H9 -> 2025 | I36: =I9 -> 2026 | J36: Ecart
A37: Exercice propre | B37: =B29-B15 -> 85970.99 | C37: =C29-C15 -> -53278.01 | D37: =D29-D15 -> -434972.11 | E37: =E29-E15 -> -10918.23 | F37: =F29-F15 -> 44455.55 | G37: =G29-G15 -> 1606582.4 | H37: =H29-H15 -> -220430.13 | I37: =I29-I15 -> -548610.64 | J37: =I37-H37 -> -328180.51
A38: Global | B38: =B32-B18 -> 555092.62 | C38: =C32-C18 -> 108326.36 | D38: =D32-D18 -> -278614.7 | E38: =E32-E18 -> -190767.26 | F38: =F32-F18 -> -79436.08 | G38: =G32-G18 -> 975304.74 | H38: =H32-H18 -> 347782.41 | I38: =I32-I18 -> 277446.82 | J38: =I38-H38 -> -70335.59
B41: Calcul des écarts
A42: Dépenses extraordinaires
B43: Budget initial / Budget initial N-1 | C43: Dern.MB / Budget initial | D43: Budget initial / dernier compte | E43: Dern.MB / dernier compte
A44: Transferts | B44: =I10-H10 -> 0 | C44: =IF($J$4=0,0,J10-I10) -> 0 | D44: =I10-G10 -> -46671.5 | E44: =IF($J$4=0,0,J10-G10) -> 0
A45: Investissements | B45: =I11-H11 -> 1672193 | C45: =IF($J$4=0,0,J11-I11) -> 0 | D45: =I11-G11 -> 217150.67 | E45: =IF($J$4=0,0,J11-G11) -> 0
A46: Dette | B46: =I12-H12 -> 901.01 | C46: =IF($J$4=0,0,J12-I12) -> 0 | D46: =I12-G12 -> 31809.45 | E46: =IF($J$4=0,0,J12-G12) -> 0
A47: Prélèvements | B47: =I13-H13 -> 0 | C47: =IF($J$4=0,0,J13-I13) -> 0 | D47: =I13-G13 -> 0 | E47: =IF($J$4=0,0,J13-G13) -> 0
B48: =I14-H14 -> 0 | C48: =IF($J$4=0,0,J14-I14) -> 0 | D48: =I14-G14 -> 0 | E48: =IF($J$4=0,0,J14-G14) -> 0
...

Sheet Tableau fonctionnel invest SE
B1: Tableau fonctionnel - Service Extraordinaire - Dépenses d'investissement (totaux par chapitre fonctionnel )
A2: Fonctions | B2: Libellés fonctionnels | C2: Comptes d'exercice (engagements) | I2: Montant budgétisé | J2: Montant budgétisé
C3: =D3-1 -> 2019 | D3: =E3-1 -> 2020 | E3: =F3-1 -> 2021 | F3: =G3-1 -> 2022 | G3: =H3-1 -> 2023 | H3: =Coordonnées!E6 -> 2024 | I3: =J3-1 -> 2025 | J3: =Coordonnées!E2 -> 2026
A4: 000 | B4: Divers | C4: 0 | D4: 0 | E4: 0 | F4: 0 | G4: 0 | H4: 0 | I4: 0 | J4: 0
A5: 009 | B5: Recettes & dépenses générales | C5: 0 | D5: 0 | E5: 0 | F5: 0 | G5: 0 | H5: 0 | I5: 0 | J5: 0
A6: 019 | B6: Dette générale | C6: 0 | D6: 0 | E6: 0 | F6: 0 | G6: 0 | H6: 0 | I6: 0 | J6: 0
A7: 029 | B7: Fonds | C7: 0 | D7: 0 | E7: 0 | F7: 0 | G7: 0 | H7: 0 | I7: 0 | J7: 0
A8: 049 | B8: Impôts et Redevances | C8: 0 | D8: 0 | E8: 0 | F8: 0 | G8: 0 | H8: 0 | I8: 0 | J8: 0
A9: 059 | B9: Assurances | C9: 0 | D9: 0 | E9: 0 | F9: 0 | G9: 0 | H9: 0 | I9: 0 | J9: 0
A10: 123 | B10: Administration générale | C10: 309398.6 | D10: 164618.06 | E10: 41378.02 | F10: 16643.13 | G10: 38905.88 | H10: 43189.38 | I10: 120000 | J10: 75000
A11: 129 | B11: Patrimoine privé | C11: 242195.29 | D11: 26640.1 | E11: 20287.18 | F11: 81910.12 | G11: 695076.38 | H11: 174265.97 | I11: 10000 | J11: 35000
A12: 139 | B12: Services généraux | C12: 0 | D12: 0 | E12: 0 | F12: 0 | G12: 0 | H12: 0 | I12: 0 | J12: 0
A13: 149 | B13: Calamités | C13: 0 | D13: 0 | E13: 0 | F13: 0 | G13: 0 | H13: 0 | I13: 85000 | J13: 85000
A14: 159 | B14: Relations avec l'étranger | C14: 0 | D14: 0 | E14: 0 | F14: 0 | G14: 0 | H14: 0 | I14: 0 | J14: 0
A15: 169 | B15: Aide aux pays en voie de développement | C15: 0 | D15: 0 | E15: 0 | F15: 0 | G15: 0 | H15: 0 | I15: 0 | J15: 0
... A23: 749 | B23: Enseignement supérieur | C23: 0 | D23: 0 | E23: 0 | F23: 0 | G23: 0 | H23: 0 | I23: 0 | J23: 0
A24: 759 | B24: Enseignement pour handicapés | C24: 0 | D24: 0 | E24: 0 | F24: 0 | G24: 0 | H24: 0 | I24: 0 | J24: 0
A25: 767 | B25: Bibliothèques publiques | C25: 0 | D25: 0 | E25: 0 | F25: 0 | G25: 0 | H25: 0 | I25: 0 | J25: 0
A26: 789 | B26: Education Popul. et Arts | C26: 508957.7 | D26: 120654.81 | E26: 56152.46 | F26: 90335.55 | G26: 33029.21 | H26: 13688.25 | I26: 16000 | J26: 30000
A27: 799 | B27: Cultes | C27: 13466 | D27: 13466 | E27: 176718.37 | F27: 165120.83 | G27: 224453.21 | H27: 169707.9 | I27: 195000 | J27: 1210000
A28: 839 | B28: Sécurité et Assist. sociale | C28: 0 | D28: 1668.79 | E28: 26023.68 | F28: 64211.42 | G28: 38825.51 | H28: 0 | I28: 0 | J28: 23000
A29: 849 | B29: Aide sociale et familiale | C29: 5179.46 | D29: 515.85 | E29: 2599.56 | F29: 2020.08 | G29: 1879.7 | H29: 95.9 | I29: 3250 | J29: 0
A30: 859 | B30: Emploi | C30: 0 | D30: 0 | E30: 0 | F30: 0 | G30: 0 | H30: 0 | I30: 0 | J30: 0
A31: 872 | B31: Institutions de soins | C31: 0 | D31: 0 | E31: 0 | F31: 0 | G31: 0 | H31: 0 | I31: 0 | J31: 0
A32: 874 | B32: Alimentation - Eau | C32: 0 | D32: 0 | E32: 0 | F32: 0 | G32: 0 | H32: 0 | I32: 0 | J32: 0
A33: 876 | B33: Désinfect.-Nett.-Immond. | C33: 88573 | D33: 12000 | E33: 45353.57 | F33: 32196.74 | G33: 16466.07 | H33: 16466.07 | I33: 0 | J33: 0
A34: 877 | B34: Eaux usées | C34: 0 | D34: 0 | E34: 0 | F34: 0 | G34: 0 | H34: 0 | I34: 0 | J34: 0
A35: 879 | B35: Cimetières-Protec.environ. | C35: 388029.8 | D35: 138537.07 | E35: 30808.62 | F35: 33573.02 | G35: 55586.89 | H35: 24193.29 | I35: 0 | J35: 7400
A36: 939 | B36: Logement - Urbanisme | C36: 179073.26 | D36: 1573534.6 | E36: 1857510.2 | F36: 1159638 | G36: 1380198.9 | H36: 1393215.4 | I36: 100000 | J36: 185043

Sheet Financements investissements
I4: Budget initial | J4: Budget intial
C5: Résultats des comptes d'exercice (engagements)
C6: =D6-1 -> 2019 | D6: =E6-1 -> 2020 | E6: =F6-1 -> 2021 | F6: =G6-1 -> 2022 | G6: =H6-1 -> 2023 | H6: =Coordonnées!E6 -> 2024 | I6: =J6-1 -> 2025 | J6: =Coordonnées!E7 -> 2026
A7: 995-51 | B7: Auto-financement | C7: 438392.73 | D7: 266730.63 | E7: 12859.22 | F7: 947004.42 | G7: 286074.44 | H7: 696959.6 | I7: 369430.13 | J7: 1030524.1
A8: 96x-xx | B8: Emprunts | C8: 749994.79 | D8: 149083.79 | E8: 1175112.5 | F8: 354962.12 | G8: 310169.66 | H8: 3077860.3 | I8: 455000 | J8: 379000
A9: 66x-xx,68x-xx | B9: Subsides | C9: 166489.32 | D9: 294138.57 | E9: 1090518.1 | F9: 256722.48 | G9: 691630.24 | H9: 840072.36 | I9: 550000 | J9: 1475913.5

Sheet Commentaires SE
